BEGIN:VCALENDAR
VERSION:2.0
PRODID:-//大阪イベントナビ - ECPv6.15.20//NONSGML v1.0//EN
CALSCALE:GREGORIAN
METHOD:PUBLISH
X-WR-CALNAME:大阪イベントナビ
X-ORIGINAL-URL:https://osaka-event-navi.com
X-WR-CALDESC:大阪イベントナビ のイベント
REFRESH-INTERVAL;VALUE=DURATION:PT1H
X-Robots-Tag:noindex
X-PUBLISHED-TTL:PT1H
BEGIN:VTIMEZONE
TZID:Asia/Tokyo
BEGIN:STANDARD
TZOFFSETFROM:+0900
TZOFFSETTO:+0900
TZNAME:JST
DTSTART:20250101T000000
END:STANDARD
END:VTIMEZONE
BEGIN:VEVENT
DTSTART;TZID=Asia/Tokyo:20260426T080000
DTEND;TZID=Asia/Tokyo:20260426T170000
DTSTAMP:20260423T062620
CREATED:20260330T160000Z
LAST-MODIFIED:20260330T160000Z
UID:1261-1777190400-1777222800@osaka-event-navi.com
SUMMARY:【2026年4月26日(日)】大阪イベント情報まとめ | あんさんぶるスターズ！！DREAM LIVE Tour 10th xALL STARS!!　
DESCRIPTION:2026年4月26日（日）のイベント情報です。 \n \n主要テーマパーク・大型展示会（終了時間順）\n\n\n会場名\nイベント名・内容\n時間\n\n\nUSJ\n🔍確認\n21:30\n\n\n \nスポーツ（開始時間順）\n\n\n会場名\nイベント名・内容\n時間\n\n\n京セラドーム\nオリックスvs日本ハム　🔍確認\n13:00～\n\n\n \nコンサート・ライブ（開演時間順）\n\n\n会場名\nアーティスト・公演名\n時間\n\n\nインテックス大阪\nあんさんぶるスターズ！！DREAM LIVE Tour 10th xALL STARS!!　🔍確認\n10:30～\n\n\nシンフォニーホール\nシャルル・リシャール＝アムラン　🔍確認\n14:00～\n\n\nGORILLA HALL OSAKA\n「Hello Journey 2026 at GORILLA HALL OSAKA」　🔍確認\n14:10～\n\n\nオリックス劇場\nONEW　🔍確認\n15:00～\n\n\nビルボートライブ大阪\nACE COLLECTION　🔍確認\n16:00～\n\n\nインテックス大阪\nあんさんぶるスターズ！！DREAM LIVE Tour 10th xALL STARS!!　🔍確認\n16:00～\n\n\n大阪城ホール\nC&K　🔍確認\n17:30～\n\n\nNHK大阪ホール\n渋谷すばる　🔍確認\n18:00～\n\n\nZepp大阪ベイサイド\nClariS　🔍確認\n18:00～\n\n\nZeppなんば\nAve Mujica　🔍確認\n18:00～\n\n\nフェスティバルホール\n小沢健二　🔍確認\n18:00～\n\n\nGORILLA HALL OSAKA\n「Hello Journey 2026 at GORILLA HALL OSAKA」　🔍確認\n18:10～\n\n\nビルボートライブ大阪\nACE COLLECTION　🔍確認\n19:00～
URL:https://osaka-event-navi.com/event/%e3%80%902026%e5%b9%b44%e6%9c%8826%e6%97%a5%e6%97%a5%e3%80%91%e5%a4%a7%e9%98%aa%e3%82%a4%e3%83%99%e3%83%b3%e3%83%88%e6%83%85%e5%a0%b1%e3%81%be%e3%81%a8%e3%82%81-%e3%81%82%e3%82%93%e3%81%95/
END:VEVENT
END:VCALENDAR