BEGIN:VCALENDAR
VERSION:2.0
PRODID:-//大阪イベントナビ - ECPv6.15.20//NONSGML v1.0//EN
CALSCALE:GREGORIAN
METHOD:PUBLISH
X-ORIGINAL-URL:https://osaka-event-navi.com
X-WR-CALDESC:大阪イベントナビ のイベント
REFRESH-INTERVAL;VALUE=DURATION:PT1H
X-Robots-Tag:noindex
X-PUBLISHED-TTL:PT1H
BEGIN:VTIMEZONE
TZID:Asia/Tokyo
BEGIN:STANDARD
TZOFFSETFROM:+0900
TZOFFSETTO:+0900
TZNAME:JST
DTSTART:20250101T000000
END:STANDARD
END:VTIMEZONE
BEGIN:VEVENT
DTSTART;TZID=Asia/Tokyo:20260425T080000
DTEND;TZID=Asia/Tokyo:20260425T170000
DTSTAMP:20260423T045306
CREATED:20260330T160000Z
LAST-MODIFIED:20260330T160000Z
UID:1260-1777104000-1777136400@osaka-event-navi.com
SUMMARY:【2026年4月25日(土)】大阪イベント情報まとめ | SONO SONO in the greenpark ’26　
DESCRIPTION:2026年4月25日（土）のイベント情報です。 \n  \n主要テーマパーク・大型展示会（終了時間順）\n\n\n\n会場名\nイベント名・内容\n時間\n\n\nインテックス大阪\n第52回ジャンボびっくり見本市　🔍確認\n16:00\n\n\nUSJ\n🔍確認\n21:30\n\n\n\n  \nスポーツ（開始時間順）\n\n\n\n会場名\nイベント名・内容\n時間\n\n\n京セラドーム\nオリックスvs日本ハム　🔍確認\n14:00～\n\n\n\n  \nコンサート・ライブ（開演時間順）\n\n\n\n会場名\nアーティスト・公演名\n時間\n\n\n服部緑地野外音楽堂\nSONO SONO in the greenpark ’26　🔍確認\n12:00～\n\n\nインテックス大阪\nあんさんぶるスターズ！！DREAM LIVE Tour 10th xALL STARS!!　🔍確認\n12:30～\n\n\nZeppなんば\nKYOSUKE HIMURO　🔍確認\n13:00～\n\n\nシンフォニーホール\n日本センチュリー交響楽団　🔍確認\n14:00～\n\n\nNHK大阪ホール\nNHK東西浪曲大会　🔍確認\n16:00～\n\n\nビルボートライブ大阪\n島袋寛子　🔍確認\n16:00～\n\n\nオリックス劇場\nONEW　🔍確認\n16:00～\n\n\n大阪城ホール\nずっと真夜中でいいのに。　🔍確認\n18:00～\n\n\nZeppなんば\nKYOSUKE HIMURO　🔍確認\n18:00～\n\n\nインテックス大阪\nあんさんぶるスターズ！！DREAM LIVE Tour 10th xALL STARS!!　🔍確認\n18:00～\n\n\nビルボートライブ大阪\n島袋寛子　🔍確認\n19:00～\n\n\nフェスティバルホール\n吉田拓郎　🔍確認\n19:00～
URL:https://osaka-event-navi.com/event/%e3%80%902026%e5%b9%b44%e6%9c%8825%e6%97%a5%e5%9c%9f%e3%80%91%e5%a4%a7%e9%98%aa%e3%82%a4%e3%83%99%e3%83%b3%e3%83%88%e6%83%85%e5%a0%b1%e3%81%be%e3%81%a8%e3%82%81-sono-sono-in-the-greenpark/
END:VEVENT
END:VCALENDAR