BEGIN:VCALENDAR
VERSION:2.0
PRODID:-//大阪イベントナビ - ECPv6.15.20//NONSGML v1.0//EN
CALSCALE:GREGORIAN
METHOD:PUBLISH
X-WR-CALNAME:大阪イベントナビ
X-ORIGINAL-URL:https://osaka-event-navi.com
X-WR-CALDESC:大阪イベントナビ のイベント
REFRESH-INTERVAL;VALUE=DURATION:PT1H
X-Robots-Tag:noindex
X-PUBLISHED-TTL:PT1H
BEGIN:VTIMEZONE
TZID:Asia/Tokyo
BEGIN:STANDARD
TZOFFSETFROM:+0900
TZOFFSETTO:+0900
TZNAME:JST
DTSTART:20250101T000000
END:STANDARD
END:VTIMEZONE
BEGIN:VEVENT
DTSTART;TZID=Asia/Tokyo:20260423T080000
DTEND;TZID=Asia/Tokyo:20260423T170000
DTSTAMP:20260423T015324
CREATED:20260422T160000Z
LAST-MODIFIED:20260422T154245Z
UID:1244-1776931200-1776963600@osaka-event-navi.com
SUMMARY:【2026年4月23日(木)】大阪イベント情報まとめ | JO1DER SHOW 2026 ‘EIEN 永縁’　
DESCRIPTION:2026年4月23日（木）のイベント情報です。 \n  \n主要テーマパーク・大型展示会（終了時間順）\n\n\n\n会場名\nイベント名・内容\n時間\n\n\nインテックス大阪\n26春夏パナソニックパートナーズ商談会　🔍確認\n17:00\n\n\nUSJ\n🔍確認\n21:00\n\n\n\n  \nクルーズ船\n\n\n\n会場名\nイベント名・内容\n時間\n\n\nクルーズ船(天保山岸壁)\nセレブリティ・ミレニアム / 入港🔍確認\n8:00\n\n\n\n  \nコンサート・ライブ（開演時間順）\n\n\n\n会場名\nアーティスト・公演名\n時間\n\n\n京セラドーム\nJO1DER SHOW 2026 ‘EIEN 永縁’　🔍確認\n15:00～\n\n\nビルボートライブ大阪\n熱帯JAZZ楽団　🔍確認\n17:30～\n\n\nオリックス劇場\nWANIMA　🔍確認\n18:30～\n\n\nGORILLA HALL OSAKA\n[Alexandros]　🔍確認\n19:00～\n\n\nビルボートライブ大阪\n熱帯JAZZ楽団　🔍確認\n20:30～
URL:https://osaka-event-navi.com/event/%e3%80%902026%e5%b9%b44%e6%9c%8823%e6%97%a5%e6%9c%a8%e3%80%91%e5%a4%a7%e9%98%aa%e3%82%a4%e3%83%99%e3%83%b3%e3%83%88%e6%83%85%e5%a0%b1%e3%81%be%e3%81%a8%e3%82%81-jo1der-show-2026-eien/
END:VEVENT
END:VCALENDAR